BEGIN:VCALENDAR
VERSION:2.0
PRODID:-//Freedom Forum - ECPv6.2.0.1//NONSGML v1.0//EN
CALSCALE:GREGORIAN
METHOD:PUBLISH
X-WR-CALNAME:Freedom Forum
X-ORIGINAL-URL:https://www.freedomforum.org
X-WR-CALDESC:Events for Freedom Forum
REFRESH-INTERVAL;VALUE=DURATION:PT1H
X-Robots-Tag:noindex
X-PUBLISHED-TTL:PT1H
BEGIN:VTIMEZONE
TZID:America/New_York
BEGIN:DAYLIGHT
TZOFFSETFROM:-0500
TZOFFSETTO:-0400
TZNAME:EDT
DTSTART:20230312T070000
END:DAYLIGHT
BEGIN:STANDARD
TZOFFSETFROM:-0400
TZOFFSETTO:-0500
TZNAME:EST
DTSTART:20231105T060000
END:STANDARD
END:VTIMEZONE
BEGIN:VEVENT
DTSTART;TZID=America/New_York:20230909T110000
DTEND;TZID=America/New_York:20230909T190000
DTSTAMP:20230824T154658
CREATED:20230525T172531Z
LAST-MODIFIED:20230816T213705Z
UID:10136-1694257200-1694286000@www.freedomforum.org
SUMMARY:2023 First Amendment Festival
DESCRIPTION:Time: 2:00 PM - 4:30 PM EST \nThe Power Shift Project invites media leaders to sign up today for our virtual Workplace Integrity: Train the Trainers workshop and join our corps of nearly 500 trainers dedicated to improving the culture and integrity of their newsrooms. \nInstructor: Fareed Mostoufi of the Pulitzer Center on Crisis Reporting  \nOur Workplace Integrity curriculum\, redesigned in 2021\, includes new modules and reflects on current events\, like the COVID-19 pandemic and our racial reckoning. Although we’ve updated our curriculum\, its primary goals remain the same: to produce environments free of harassment\, discrimination\, and incivility\, and filled with opportunity\, especially for those who have traditionally been denied it. \nInstructor: Fareed Mostoufi of the Pulitzer Center on Crisis Reporting \nWe look forward to seeing you online! If you have questions\, please email us at powershift@freedomforum.org.
URL:https://www.freedomforum.org/event/2023-first-amendment-festival/
LOCATION:The Wharf – Transit Pier\, 970 Wharf St. SW\, Washington\, DC\, 20024\, United States
ATTACH;FMTTYPE=image/jpeg:https://www.freedomforum.org/content/uploads/2023/05/1000x564_event_1Afest_dcwharf_1.jpg
END:VEVENT
BEGIN:VEVENT
DTSTART;VALUE=DATE:20230927
DTEND;VALUE=DATE:20230930
DTSTAMP:20230824T154658
CREATED:20230214T185145Z
LAST-MODIFIED:20230505T151746Z
UID:9315-1695776400-1695949199@www.freedomforum.org
SUMMARY:Workplace Integrity: Train the Trainers Workshop
DESCRIPTION:Time: 2:00 PM - 4:30 PM EST \nThe Power Shift Project invites media leaders to sign up today for our virtual Workplace Integrity: Train the Trainers workshop and join our corps of nearly 500 trainers dedicated to improving the culture and integrity of their newsrooms. \nInstructor: Fareed Mostoufi of the Pulitzer Center on Crisis Reporting  \nOur Workplace Integrity curriculum\, redesigned in 2021\, includes new modules and reflects on current events\, like the COVID-19 pandemic and our racial reckoning. Although we’ve updated our curriculum\, its primary goals remain the same: to produce environments free of harassment\, discrimination\, and incivility\, and filled with opportunity\, especially for those who have traditionally been denied it. \nInstructor: Fareed Mostoufi of the Pulitzer Center on Crisis Reporting \nWe look forward to seeing you online! If you have questions\, please email us at powershift@freedomforum.org.
URL:https://www.freedomforum.org/event/workplace-integrity-train-the-trainers-workshop-092723/
LOCATION:Zoom
CATEGORIES:Workplace Integrity
ATTACH;FMTTYPE=image/jpeg:https://www.freedomforum.org/content/uploads/2022/10/1000x564_event_PSP.jpg
END:VEVENT
BEGIN:VEVENT
DTSTART;TZID=America/New_York:20231011T130000
DTEND;TZID=America/New_York:20231011T140000
DTSTAMP:20230824T154658
CREATED:20230323T153407Z
LAST-MODIFIED:20230823T144000Z
UID:9725-1697029200-1697032800@www.freedomforum.org
SUMMARY:Workplace Integrity: Inclusive Leadership
DESCRIPTION:Time: 2:00 PM - 4:30 PM EST \nThe Power Shift Project invites media leaders to sign up today for our virtual Workplace Integrity: Train the Trainers workshop and join our corps of nearly 500 trainers dedicated to improving the culture and integrity of their newsrooms. \nInstructor: Fareed Mostoufi of the Pulitzer Center on Crisis Reporting  \nOur Workplace Integrity curriculum\, redesigned in 2021\, includes new modules and reflects on current events\, like the COVID-19 pandemic and our racial reckoning. Although we’ve updated our curriculum\, its primary goals remain the same: to produce environments free of harassment\, discrimination\, and incivility\, and filled with opportunity\, especially for those who have traditionally been denied it. \nInstructor: Fareed Mostoufi of the Pulitzer Center on Crisis Reporting \nWe look forward to seeing you online! If you have questions\, please email us at powershift@freedomforum.org.
URL:https://www.freedomforum.org/event/workplace-integrity-inclusive-leadership-101123/
LOCATION:Zoom
CATEGORIES:Workplace Integrity
ATTACH;FMTTYPE=image/jpeg:https://www.freedomforum.org/content/uploads/2022/10/1000x564_event_PSP.jpg
END:VEVENT
END:VCALENDAR